BEGIN:VCALENDAR
VERSION:2.0
PRODID:http://pfarrei-rothenkirchen.de
BEGIN:VEVENT
UID:fc37a90c-3b04-11f1-a8bf-0242ac11002b-1778911200000-de
DTSTAMP:20260418T090002Z
DTSTART:20260516T060000Z
DTEND:20260516T070000Z
SUMMARY;LANGUAGE=de:Eucharistiefeier (Domkapitel)
END:VEVENT
END:VCALENDAR
