BEGIN:VCALENDAR
VERSION:2.0
PRODID:http://pfarrei-rothenkirchen.de
BEGIN:VEVENT
UID:feebfd1d-3196-11f1-a8bf-0242ac11002b-1777876200000-de
DTSTAMP:20260406T090001Z
DTSTART:20260504T063000Z
DTEND:20260504T071500Z
SUMMARY;LANGUAGE=de:Eucharistiefeier, anschließend Rosenkranz
END:VEVENT
END:VCALENDAR
