BEGIN:VCALENDAR
VERSION:2.0
PRODID:http://pfarrei-rothenkirchen.de
BEGIN:VEVENT
UID:ff407c6f-3b04-11f1-a8bf-0242ac11002b-1778922000000-de
DTSTAMP:20260418T090007Z
DTSTART:20260516T090000Z
DTEND:20260516T100000Z
SUMMARY;LANGUAGE=de:Taufe Marie Zöcklein
END:VEVENT
END:VCALENDAR
