BEGIN:VCALENDAR
VERSION:2.0
PRODID:http://pfarrei-rothenkirchen.de
BEGIN:VEVENT
UID:ff45ebca-364d-11f1-a8bf-0242ac11002b-1778432400000-de
DTSTAMP:20260412T090004Z
DTSTART:20260510T170000Z
DTEND:20260510T180000Z
SUMMARY;LANGUAGE=de:Eucharistiefeier
DESCRIPTION;LANGUAGE=de:Uni-GD
END:VEVENT
END:VCALENDAR
