BEGIN:VCALENDAR
VERSION:2.0
PRODID:http://pfarrei-rothenkirchen.de
BEGIN:VEVENT
UID:ff9fa4a0-364d-11f1-a8bf-0242ac11002b-1778403600000-de
DTSTAMP:20260412T090005Z
DTSTART:20260510T090000Z
DTEND:20260510T100000Z
SUMMARY;LANGUAGE=de:Wort-Gottes-Feier
DESCRIPTION;LANGUAGE=de:mit dem Hospizverein Erlangen
END:VEVENT
END:VCALENDAR
